BEGIN:VCALENDAR
VERSION:2.0
PRODID:-//Routt County Climate Action Plan Collaborative - ECPv6.15.20//NONSGML v1.0//EN
CALSCALE:GREGORIAN
METHOD:PUBLISH
X-ORIGINAL-URL:https://routtclimateaction.com
X-WR-CALDESC:Events for Routt County Climate Action Plan Collaborative
REFRESH-INTERVAL;VALUE=DURATION:PT1H
X-Robots-Tag:noindex
X-PUBLISHED-TTL:PT1H
BEGIN:VTIMEZONE
TZID:America/Denver
BEGIN:DAYLIGHT
TZOFFSETFROM:-0700
TZOFFSETTO:-0600
TZNAME:MDT
DTSTART:20220313T090000
END:DAYLIGHT
BEGIN:STANDARD
TZOFFSETFROM:-0600
TZOFFSETTO:-0700
TZNAME:MST
DTSTART:20221106T080000
END:STANDARD
BEGIN:DAYLIGHT
TZOFFSETFROM:-0700
TZOFFSETTO:-0600
TZNAME:MDT
DTSTART:20230312T090000
END:DAYLIGHT
BEGIN:STANDARD
TZOFFSETFROM:-0600
TZOFFSETTO:-0700
TZNAME:MST
DTSTART:20231105T080000
END:STANDARD
BEGIN:DAYLIGHT
TZOFFSETFROM:-0700
TZOFFSETTO:-0600
TZNAME:MDT
DTSTART:20240310T090000
END:DAYLIGHT
BEGIN:STANDARD
TZOFFSETFROM:-0600
TZOFFSETTO:-0700
TZNAME:MST
DTSTART:20241103T080000
END:STANDARD
BEGIN:DAYLIGHT
TZOFFSETFROM:-0700
TZOFFSETTO:-0600
TZNAME:MDT
DTSTART:20250309T090000
END:DAYLIGHT
BEGIN:STANDARD
TZOFFSETFROM:-0600
TZOFFSETTO:-0700
TZNAME:MST
DTSTART:20251102T080000
END:STANDARD
END:VTIMEZONE
BEGIN:VEVENT
DTSTART;TZID=America/Denver:20240917T120000
DTEND;TZID=America/Denver:20240917T133000
DTSTAMP:20260420T012725
CREATED:20240909T005431Z
LAST-MODIFIED:20240909T005431Z
UID:10000041-1726574400-1726579800@routtclimateaction.com
SUMMARY:Business Leadership for Climate: Community Celebration!
DESCRIPTION:Our forth ‘Business Leadership for Climate’ workshop will be held on Tuesday\, September 17 from noon-1:30 p.m. in Library Hall at the Bud Werner Memorial Library. The event will be a celebration of our Yampa Valley green businesses and organizations. \nCGBN-YV participants will have the opportunity to host a table and talk with the public about their products and services and share what they are doing in the green business space. The event is intended to be interactive and informal with lunch generously provided by Skull Creek Greek. \nThe event is free and open to the public\, but registration is required. \nPlease reach out to Ashley Dean (ashley@yvsc.org)\, with any questions. \nAbout the Colorado Green Business Network of the Yampa Valley (CGBN-YV) \nThe Colorado Green Business Network of the Yampa Valley (CGBN-YV) was launched the summer of 2022 as a free\, technical assistance and environmental recognition program. The program is run by Yampa Valley Sustainability Council (YVSC)\, a regional partner of the Colorado Department of Public Health and Environment (CDPHE) Green Business Network (CGBN). The goal of the program is to connect businesses who want to distinguish their processes and products by environmental and sustainability performance with technical resources and the tracking platforms to do so. \nThank you to our sponsors and partners
URL:https://routtclimateaction.com/event/business-leadership-for-climate-community-celebration/
LOCATION:Library Hall\, Bud Werner Memorial Library
ATTACH;FMTTYPE=image/jpeg:https://routtclimateaction.com/wp-content/uploads/2024/04/Oakley_Winn_landscape-scaled-n9MrnD.tmp_.jpg
END:VEVENT
BEGIN:VEVENT
DTSTART;TZID=America/Denver:20240529T120000
DTEND;TZID=America/Denver:20240529T133000
DTSTAMP:20260420T012725
CREATED:20240415T223131Z
LAST-MODIFIED:20240415T223131Z
UID:10000031-1716984000-1716989400@routtclimateaction.com
SUMMARY:Colorado Green Business Network of the Yampa Valley Workshop III: Business Leadership for Climate
DESCRIPTION:Are you ready to position your business as a community leader in climate action? The time is now as consumers are seeking out green businesses and emissions reductions are needed to turn the tide on climate change. Join the Yampa Valley Sustainability Council and the Steamboat Springs Chamber to learn how your business can play a climate leadership role here locally\, while enjoying the economic and environmental benefits of freely participating in the Colorado Green Business Network of the Yampa Valley (CGBN-YV). The third installment of the four-part series will be held on May 29 from 12-1:30 p.m. in the Routt County Health and Human Services Community Room. The goal of the third workshop is to learn about funding opportunities available for CGBN-YV participants. If you were unable to attend the first two workshops\, you are still welcome to join the series. The CGBN-YV team will provide a brief overview of the green business program and the support role they can play in connecting your business with state resources. They also want to hear from you! What are the opportunities and challenges facing your business or organization. Share a delicious (FREE!) lunch with a growing community of business leaders committed to environmental and social responsibility. The event is free and open to the public\, but registration is required. Reach out to Ashley Dean (ashley@yvsc.org)\, with any questions. About the Colorado Green Business Network of the Yampa Valley (CGBN-YV) The Colorado Green Business Network of the Yampa Valley (CGBN-YV) was launched the summer of 2022 as a free\, technical assistance and environmental recognition program. The program is run by Yampa Valley Sustainability Council (YVSC)\, a regional partner of the Colorado Department of Public Health and Environment (CDPHE) Green Business Network (CGBN). The goal of the program is to connect businesses who want to distinguish their processes and products by environmental and sustainability performance with technical resources and the tracking platforms to do so.
URL:https://routtclimateaction.com/event/colorado-green-business-network-of-the-yampa-valley-workshop-iii-business-leadership-for-climate/
LOCATION:Community Room\, Routt County Health and Human Services\, 135 6th Street
ATTACH;FMTTYPE=image/jpeg:https://routtclimateaction.com/wp-content/uploads/2024/04/Oakley_Winn_landscape-scaled-n9MrnD.tmp_.jpg
END:VEVENT
BEGIN:VEVENT
DTSTART;TZID=America/Denver:20240123T120000
DTEND;TZID=America/Denver:20240123T133000
DTSTAMP:20260420T012725
CREATED:20240415T223131Z
LAST-MODIFIED:20240415T223131Z
UID:10000033-1706011200-1706016600@routtclimateaction.com
SUMMARY:Colorado Green Business Network of the Yampa Valley Workshop: Business Leadership for Climate
DESCRIPTION:Are you ready to position your business as a community leader in climate action? The time is ripe as consumers are seeking out green businesses and emissions reductions are needed to turn the tide on climate change. Join the Yampa Valley Sustainability Council and the Steamboat Springs Chamber to learn how your business can play a climate leadership role here locally\, while enjoying the economic and environmental benefits of freely participating in the Colorado Green Business Network of the Yampa Valley (CGBN-YV). The first installment of the four-part series will be held on January 23 from 12-1:30 p.m. in the Routt County Health and Human Services Community Room. The goals of the workshop are to: Increase your understanding of the CGBN-YV program and the support role your local green team can play in connecting your business with state resources. Increase CGBN-YV’s connection to the business community to identify opportunities and challenges. Share a delicious (FREE!) lunch courtesy of WildPlum with a growing community of business leaders committed to environmental and social responsibility. The event is free and open to the public\, but registration is required. Register here: https://www.tickettailor.com/events/yampavallleysustainabilitycouncil/1100399? Reach out to Ashley Dean (ashley@yvsc.org)\, with any questions. About the Colorado Green Business Network of the Yampa Valley (CGBN-YV) The Colorado Green Business Network of the Yampa Valley (CGBN-YV) was launched the summer of 2022 as a free\, technical assistance and environmental recognition program. The program is run by Yampa Valley Sustainability Council (YVSC)\, a regional partner of the Colorado Department of Public Health and Environment (CDPHE) Green Business Network (CGBN). The goal of the program is to connect businesses who want to distinguish their processes and products by environmenta
URL:https://routtclimateaction.com/event/colorado-green-business-network-of-the-yampa-valley-workshop-business-leadership-for-climate/
LOCATION:Community Room\, Routt County Health and Human Services\, 135 6th Street
ATTACH;FMTTYPE=image/png:https://routtclimateaction.com/wp-content/uploads/2024/04/Chamber_site_visit-e1703191889698-1yp6N8.tmp_.png
END:VEVENT
BEGIN:VEVENT
DTSTART;TZID=America/Denver:20231008T090000
DTEND;TZID=America/Denver:20231008T150000
DTSTAMP:20260420T012725
CREATED:20240415T223133Z
LAST-MODIFIED:20240415T223133Z
UID:10000035-1696755600-1696777200@routtclimateaction.com
SUMMARY:Yampa Valley Climate Crew - Stream Restoration on Trout Creek
DESCRIPTION:Join the Yampa Valley Climate Crew\, alongside Trout Unlimited\, to restore a riparian area along Trout Creek\, a major tributary of the Yampa River in South Routt! Some work has already been done along the creek to reconnect the stream to its floodplain\, but additional vegetation is needed to restore the riparian area\, which will decrease water temperatures\, improve wildlife habitat\, and sequester carbon. To assist in this effort\, the Yampa Valley Climate Crew will plant 100 cottonwoods and reseed the area with native plants. Difficulty: Easy Please contact ryan@yvsc.org with any questions Click here to register.
URL:https://routtclimateaction.com/event/yampa-valley-climate-crew-stream-restoration-on-trout-creek/
ATTACH;FMTTYPE=image/png:https://routtclimateaction.com/wp-content/uploads/2023/09/Stream_restoration.png
END:VEVENT
BEGIN:VEVENT
DTSTART;TZID=America/Denver:20230923T090000
DTEND;TZID=America/Denver:20230923T140000
DTSTAMP:20260420T012725
CREATED:20240415T223134Z
LAST-MODIFIED:20240415T223134Z
UID:10000038-1695459600-1695477600@routtclimateaction.com
SUMMARY:Yampa Valley Climate Crew - Tree Planting Along the Yampa
DESCRIPTION:Join the Yampa Valley Climate Crew to reforest the Yampa River by planting native cottonwoods along the bank! This is the Crew’s first planting event of the season to reforest the Yampa River. Over the past 14 years\, the Yampa Valley Climate Crew has planted over 23\,000 trees in the Yampa Valley. This year\, they enter their fifth year of the Yampa River Forest Restoration Program\, where they will be planting approximately 130 trees along the Yampa River on private property off HW 131. This project aims to increase shade along the river to reduce water temperatures\, improve riparian habitat\, and sequester carbon. Volunteer work for the day will include planting\, mulching\, and fencing the trees. Please note\, participants will need to cross the river (~1.5 feet deep) to get to the planting site. Difficulty: Easy Please contact ryan@yvsc.org with any questions. Click here to register.
URL:https://routtclimateaction.com/event/yampa-valley-climate-crew-tree-planting-along-the-yampa/
ATTACH;FMTTYPE=image/jpeg:https://routtclimateaction.com/wp-content/uploads/2024/04/Tree_planting_elkhead-scaled-Wzj79X.tmp_.jpg
END:VEVENT
BEGIN:VEVENT
DTSTART;TZID=America/Denver:20230805T000000
DTEND;TZID=America/Denver:20230806T235900
DTSTAMP:20260420T012725
CREATED:20240415T223134Z
LAST-MODIFIED:20240415T223134Z
UID:10000039-1691193600-1691366340@routtclimateaction.com
SUMMARY:Restoring Wet Meadows in California Park
DESCRIPTION:Join Yampa Valley Climate Crew to construct Zeedyk rock structures in streambeds to raise the water table and restore wet meadows\, which are vital for wildlife habitat and carbon sequestration. They will be working with the US Forest Service to restore wet meadows and riparian areas in beautiful California Park! These ecosystems are vital for carbon storage and wildlife habitat\, including sandhill crane\, boreal toads\, and greater sage-grouse. However\, erosion has disconnected these wet meadows from the floodplain\, resulting in decreased water retention and loss of wetland vegetation. They are at further risk of deterioration in coming years from drought and intense rainstorms. By using innovative restoration techniques called Zeedyk structures\, you will help raise the water table\, improve hydrological functions\, and re-establish wet meadows and riparian areas in California Park! Camping is encouraged if you plan to attend multiple days.
URL:https://routtclimateaction.com/event/restoring-wet-meadows-in-california-park/
ATTACH;FMTTYPE=image/jpeg:https://routtclimateaction.com/wp-content/uploads/2023/05/YVCC-CalPark.jpeg
END:VEVENT
END:VCALENDAR