BEGIN:VCALENDAR
VERSION:2.0
PRODID:-//Routt County Climate Action Plan Collaborative - ECPv6.15.20//NONSGML v1.0//EN
CALSCALE:GREGORIAN
METHOD:PUBLISH
X-WR-CALNAME:Routt County Climate Action Plan Collaborative
X-ORIGINAL-URL:https://routtclimateaction.com
X-WR-CALDESC:Events for Routt County Climate Action Plan Collaborative
REFRESH-INTERVAL;VALUE=DURATION:PT1H
X-Robots-Tag:noindex
X-PUBLISHED-TTL:PT1H
BEGIN:VTIMEZONE
TZID:America/Denver
BEGIN:DAYLIGHT
TZOFFSETFROM:-0700
TZOFFSETTO:-0600
TZNAME:MDT
DTSTART:20230312T090000
END:DAYLIGHT
BEGIN:STANDARD
TZOFFSETFROM:-0600
TZOFFSETTO:-0700
TZNAME:MST
DTSTART:20231105T080000
END:STANDARD
BEGIN:DAYLIGHT
TZOFFSETFROM:-0700
TZOFFSETTO:-0600
TZNAME:MDT
DTSTART:20240310T090000
END:DAYLIGHT
BEGIN:STANDARD
TZOFFSETFROM:-0600
TZOFFSETTO:-0700
TZNAME:MST
DTSTART:20241103T080000
END:STANDARD
BEGIN:DAYLIGHT
TZOFFSETFROM:-0700
TZOFFSETTO:-0600
TZNAME:MDT
DTSTART:20250309T090000
END:DAYLIGHT
BEGIN:STANDARD
TZOFFSETFROM:-0600
TZOFFSETTO:-0700
TZNAME:MST
DTSTART:20251102T080000
END:STANDARD
BEGIN:DAYLIGHT
TZOFFSETFROM:-0700
TZOFFSETTO:-0600
TZNAME:MDT
DTSTART:20260308T090000
END:DAYLIGHT
BEGIN:STANDARD
TZOFFSETFROM:-0600
TZOFFSETTO:-0700
TZNAME:MST
DTSTART:20261101T080000
END:STANDARD
END:VTIMEZONE
BEGIN:VEVENT
DTSTART;TZID=America/Denver:20251022T173000
DTEND;TZID=America/Denver:20251022T193000
DTSTAMP:20260420T012240
CREATED:20250904T024017Z
LAST-MODIFIED:20250920T033752Z
UID:10000043-1761154200-1761161400@routtclimateaction.com
SUMMARY:CAP Collaborative Public Open House/Jornada de Puertas Abiertas de la Colaboración del PAC
DESCRIPTION:The CAP Collaborative Board and Working Groups invite you to attend our third Public Open House. Collaborative members will provide updates on progress made implementing the CAP’s 40 recommended actions. Other key updates will include the climate equity initiative and key findings from Routt County’s 2023 Greenhouse Gas Emissions Inventory. We will also have the opportunity to hear from the first round of CAP Fund recipients and the exciting projects they have underway. \nCome with questions and feedback for the Collaborative as this will be an interactive evening. Beverages and light snacks will be served. Childcare and Spanish language translation provided. The event is free and open to the public\, but please register in advance. \nQuestions? Email Ashley Dean (ashley@yvsc.org). \n  \nmiercoles\, el 22 de octubre \n5:30-7:30 por la tarde \nSala de la Biblioteca Bud Werner Memorial\, 1289 Lincoln Ave \nSteamboat Springs\, CO 80487 \nLa Colaboración y los Grupos de Trabajo del Plan de Acción Climática (PAC) le invitan a asistir a nuestra tercera Jornada de Puertas Abiertas. Los miembros de la colaboración ofrecerán información actualizada sobre los progresos realizados en la aplicación de las 40 recomendaciones. Otras actualizaciones clave incluirán la iniciativa de equidad climática y las principales conclusiones del Inventario de Emisiones de Gases de Efecto Invernadero del Condado de Routt de 2023. También tendremos la oportunidad de conocer a los beneficiarios de la primera ronda de fondos del CAP y los emocionantes proyectos que tienen en marcha. \nVenga con preguntas y comentarios para la Colaboración durante esta noche interactiva. Se servirán bebidas y aperitivos. El evento es gratuito y abierto al público. Puede mandar preguntas a info@yvsc.org.
URL:https://routtclimateaction.com/event/cap-collaborative-public-open-house-jornada-de-puertas-abiertas-de-la-colaboracion-del-pac/
LOCATION:Library Hall\, Bud Werner Memorial Library
ATTACH;FMTTYPE=image/jpeg:https://routtclimateaction.com/wp-content/uploads/2023/07/CAP_OpenHouse_crowd_800-e1728404519125.jpg
END:VEVENT
BEGIN:VEVENT
DTSTART;TZID=America/Denver:20241205T173000
DTEND;TZID=America/Denver:20241205T193000
DTSTAMP:20260420T012240
CREATED:20241008T222328Z
LAST-MODIFIED:20241126T030908Z
UID:10000042-1733419800-1733427000@routtclimateaction.com
SUMMARY:CAP Collaborative Public Open House/Jornada de Puertas Abiertas de la Colaboración del PAC
DESCRIPTION:The CAP Collaborative Board and Working Groups invite you to attend our second Public Open House. Collaborative members will provide updates on progress made implementing the 40 recommendations shared with the public in June 2023. We will also highlight our new climate equity initiative and the roll out of our first CAP Collaborative award – a $260K Colorado Energy Office Energy Efficiency and Conservation Block Grant to support a county-wide building electrification and decarbonization initiative. \nCome with questions and feedback for the Collaborative as this will be an interactive evening. Mountain Tap beer\, non-alcoholic beverages\, and light snacks will be served. Childcare and Spanish language translation will be available. The event is free and open to the public\, but please register in advance. \nDate: Thursday\, December 5 \nTime: 5:30-7:30 p.m. \nLocation: Library Hall\, Bud Werner Memorial Library\, Steamboat Springs \nQuestions? Please reach out to Ashley Dean (ashley@yvsc.org). \n  \njueves\, el 5 de diciembre \n5:30-7:30 por la tarde \nSala de la Biblioteca Bud Werner Memorial\, 1289 Lincoln Ave \nSteamboat Springs\, CO 80487 \nLa Colaboración y los Grupos de Trabajo del Plan de Acción Climática (PAC) le invitan a asistir a nuestra segunda Jornada de Puertas Abiertas. Los miembros de la colaboración ofrecerán información actualizada sobre los progresos realizados en la aplicación de las 40 recomendaciones compartidas con el público en junio de 2023. \nVenga con preguntas y comentarios para la Colaboración durante esta noche interactiva. Se servirán bebidas y aperitivos. El evento es gratuito y abierto al público. Por favor regístrese con antelación aquí. Puede mandar preguntas a info@yvsc.org.
URL:https://routtclimateaction.com/event/cap-collaborative-public-open-house/
LOCATION:Library Hall\, Bud Werner Memorial Library
ATTACH;FMTTYPE=image/jpeg:https://routtclimateaction.com/wp-content/uploads/2023/07/CAP_OpenHouse_crowd_800-e1728404519125.jpg
END:VEVENT
BEGIN:VEVENT
DTSTART;TZID=America/Denver:20240917T120000
DTEND;TZID=America/Denver:20240917T133000
DTSTAMP:20260420T012240
CREATED:20240909T005431Z
LAST-MODIFIED:20240909T005431Z
UID:10000041-1726574400-1726579800@routtclimateaction.com
SUMMARY:Business Leadership for Climate: Community Celebration!
DESCRIPTION:Our forth ‘Business Leadership for Climate’ workshop will be held on Tuesday\, September 17 from noon-1:30 p.m. in Library Hall at the Bud Werner Memorial Library. The event will be a celebration of our Yampa Valley green businesses and organizations. \nCGBN-YV participants will have the opportunity to host a table and talk with the public about their products and services and share what they are doing in the green business space. The event is intended to be interactive and informal with lunch generously provided by Skull Creek Greek. \nThe event is free and open to the public\, but registration is required. \nPlease reach out to Ashley Dean (ashley@yvsc.org)\, with any questions. \nAbout the Colorado Green Business Network of the Yampa Valley (CGBN-YV) \nThe Colorado Green Business Network of the Yampa Valley (CGBN-YV) was launched the summer of 2022 as a free\, technical assistance and environmental recognition program. The program is run by Yampa Valley Sustainability Council (YVSC)\, a regional partner of the Colorado Department of Public Health and Environment (CDPHE) Green Business Network (CGBN). The goal of the program is to connect businesses who want to distinguish their processes and products by environmental and sustainability performance with technical resources and the tracking platforms to do so. \nThank you to our sponsors and partners
URL:https://routtclimateaction.com/event/business-leadership-for-climate-community-celebration/
LOCATION:Library Hall\, Bud Werner Memorial Library
ATTACH;FMTTYPE=image/jpeg:https://routtclimateaction.com/wp-content/uploads/2024/04/Oakley_Winn_landscape-scaled-n9MrnD.tmp_.jpg
END:VEVENT
END:VCALENDAR